BEGIN:VCALENDAR
VERSION:2.0
PRODID:-//MyNortheaster.com - ECPv4.6.19//NONSGML v1.0//EN
CALSCALE:GREGORIAN
METHOD:PUBLISH
X-WR-CALNAME:MyNortheaster.com
X-ORIGINAL-URL:https://www.mynortheaster.com
X-WR-CALDESC:Events for MyNortheaster.com
BEGIN:VEVENT
DTSTART;TZID=America/Chicago:20161009T113000
DTEND;TZID=America/Chicago:20161009T140000
DTSTAMP:20260421T141218
CREATED:20160914T014230Z
LAST-MODIFIED:20160915T144242Z
UID:2592-1476012600-1476021600@www.mynortheaster.com
SUMMARY:NE UMC spaghetti dinner
DESCRIPTION:Northeast United Methodist Church\, 2510 Cleveland St. NE\, will have a spaghetti dinner Sunday\, Oct. 9\, 11:30 a.m.-2 p.m. The meal includes spaghetti\, salad\, garlic bread\, a beverage and dessert. Prices are $8 in advance for adults\, or $10 at the door. Children 6-12 are $5 and kids under 5 are free. A craft sale will be held during the event. The church will sell canned salsas\, jams and jellies made from the produce of its on-site community garden. To order tickets\, contact the church at 612-789-7462. \n
URL:https://www.mynortheaster.com/event/united-methodist-church-spaghetti-dinner/
LOCATION:2510 Cleveland St. NE\, Minneapolis\, MN\, 55418\, United States
GEO:45.0134769;-93.2311338
X-APPLE-STRUCTURED-LOCATION;VALUE=URI;X-ADDRESS=2510 Cleveland St. NE Minneapolis MN 55418 United States;X-APPLE-RADIUS=500;X-TITLE=2510 Cleveland St. NE:geo:-93.2311338,45.0134769
CATEGORIES:Church Happenings
END:VEVENT
END:VCALENDAR