BEGIN:VCALENDAR
VERSION:2.0
PRODID:-//MyNortheaster.com - ECPv4.6.19//NONSGML v1.0//EN
CALSCALE:GREGORIAN
METHOD:PUBLISH
X-WR-CALNAME:MyNortheaster.com
X-ORIGINAL-URL:https://www.mynortheaster.com
X-WR-CALDESC:Events for MyNortheaster.com
BEGIN:VEVENT
DTSTART;TZID=America/Chicago:20230311T190000
DTEND;TZID=America/Chicago:20230311T203000
DTSTAMP:20260423T025731
CREATED:20230207T162607Z
LAST-MODIFIED:20230216T192803Z
UID:20713-1678561200-1678566600@www.mynortheaster.com
SUMMARY:Twin Cities Women’s Choir presents “Hot Water”
DESCRIPTION:Several Northeast residents will sing with the The Twin Cities Women’s Choir at a collaborative concert featuring all of the Her Voice Productions choirs – Twin Cities Women’s Choir\, Twin Cites Girls’ Choir\, and ENCORE! –  on Saturday\, March 11\, 7 pm\, Washburn High School Auditorium\, 201 W 49th St. Music from the Twin Cities Women’s Choir will highlight the tenacity of women who have lived through struggle and  survived and thrived. Tickets:  General Admission\, $23 Adults; $20 Seniors 65+; $12 Children 12 and under. Available online at: https://hervoiceproductions.org/buy-tickets \n
URL:https://www.mynortheaster.com/event/twin-cities-womens-choir-presents-hot-water/
LOCATION:201 W. 49th St\, Minneapolis\, MN\, 55419\, United States
CATEGORIES:Performance Arts
END:VEVENT
END:VCALENDAR