BEGIN:VCALENDAR
VERSION:2.0
PRODID:-//MyNortheaster.com - ECPv4.6.19//NONSGML v1.0//EN
CALSCALE:GREGORIAN
METHOD:PUBLISH
X-WR-CALNAME:MyNortheaster.com
X-ORIGINAL-URL:https://www.mynortheaster.com
X-WR-CALDESC:Events for MyNortheaster.com
BEGIN:VEVENT
DTSTART;TZID=America/Chicago:20240308T190000
DTEND;TZID=America/Chicago:20240308T210000
DTSTAMP:20260421T180602
CREATED:20240221T144702Z
LAST-MODIFIED:20240314T032449Z
UID:23313-1709924400-1709931600@www.mynortheaster.com
SUMMARY:"The SpongeBob Musical"
DESCRIPTION:Columbia Academy (CA) students will perform “The SpongeBob Musical” in the Columbia Heights High School Performing Arts Center\, 1400 49th Ave NE\, Friday and Saturday\, March 8 and 9 at 7 pm and Sunday\, March 10 at 2 pm. When the citizens of Bikini Bottom discover that a volcano will soon erupt and destroy their humble home\, SpongeBob (Rose Zeimet) and his friends must come together to save the fate of their undersea world. Tickets are $6 for adults\, $4 for students\, free for children ages 0-4\, free for CHPS students with their student ID\, and free for senior citizens with an event pass. Purchase online https://colheights.hometownticketing.com/ or at the door. \n
URL:https://www.mynortheaster.com/event/the-spongebob-musical/2024-03-08/
LOCATION:1400 49th Ave. NE\, Columbia Heights\, MN\, 55421\, United States
GEO:45.0555829;-93.2396817
X-APPLE-STRUCTURED-LOCATION;VALUE=URI;X-ADDRESS=1400 49th Ave. NE Columbia Heights MN 55421 United States;X-APPLE-RADIUS=500;X-TITLE=1400 49th Ave. NE:geo:-93.2396817,45.0555829
CATEGORIES:In Our Schools,Performance Arts
END:VEVENT
END:VCALENDAR