BEGIN:VCALENDAR
VERSION:2.0
PRODID:-//MyNortheaster.com - ECPv4.6.19//NONSGML v1.0//EN
CALSCALE:GREGORIAN
METHOD:PUBLISH
X-WR-CALNAME:MyNortheaster.com
X-ORIGINAL-URL:https://www.mynortheaster.com
X-WR-CALDESC:Events for MyNortheaster.com
BEGIN:VEVENT
DTSTART;TZID=America/Chicago:20181007T113000
DTEND;TZID=America/Chicago:20181007T160000
DTSTAMP:20260421T143353
CREATED:20180926T175831Z
LAST-MODIFIED:20180926T180310Z
UID:9403-1538911800-1538928000@www.mynortheaster.com
SUMMARY:St. John’s Fall Festival
DESCRIPTION:St. John the Baptist Byzantine Catholic Church\, 2201 Third St NE\, will have its Fall Festival\, Sunday\, Oct. 7\, 11:30 am-4 pm. The event will include Divine Liturgy at 9:30 am\, bingo\, pull tabs\, raffles\, a silent auction\, a bake sale\, Bottle Bonanza\, games for kids\, a $1\,000 cash prize\, and ethnic food to eat in or take out. \n
URL:https://www.mynortheaster.com/event/st-johns-fall-festival/
LOCATION:2215 3rd St. NE\, Minneapolis\, MN\, 55418\, United States
GEO:45.0102651;-93.2641489
X-APPLE-STRUCTURED-LOCATION;VALUE=URI;X-ADDRESS=2215 3rd St. NE Minneapolis MN 55418 United States;X-APPLE-RADIUS=500;X-TITLE=2215 3rd St. NE:geo:-93.2641489,45.0102651
CATEGORIES:Church Happenings,Family Fun
END:VEVENT
END:VCALENDAR