BEGIN:VCALENDAR
VERSION:2.0
PRODID:-//MyNortheaster.com - ECPv4.6.19//NONSGML v1.0//EN
CALSCALE:GREGORIAN
METHOD:PUBLISH
X-WR-CALNAME:MyNortheaster.com
X-ORIGINAL-URL:https://www.mynortheaster.com
X-WR-CALDESC:Events for MyNortheaster.com
BEGIN:VEVENT
DTSTART;TZID=America/Chicago:20240302T150000
DTEND;TZID=America/Chicago:20240302T173000
DTSTAMP:20260421T131506
CREATED:20240129T173410Z
LAST-MODIFIED:20240131T210600Z
UID:23116-1709391600-1709400600@www.mynortheaster.com
SUMMARY:Sanding & Finishing Hardwood Floors Class
DESCRIPTION:\nWant to fix up your hardwood floors but don’t know how to do it yourself? In this weekend workshop from the MN Tool Library you’ll learn what a project like this entails\, from visioning it out to sanding techniques and finishing options. Day 1 (3/2/24 from 3-5:30 pm) will go over how to use the Tool Library’s floor sanding equipment\, including demonstration of a drum sander and edger and cover topics such as dust control and dealing with corners and other tricky spots. Day 2 (3/3/24 from 3-5:30pm) will focus on finishing your floor – buffing\, cleanup\, and choosing the right finish\, including color\, application methods\, and best practices for cleaning and maintenance. Northeast Mpls Tool Library\, Thorp Building\, 1620 Central Ave. NE\, Suite #126 Guest Rate: $60; MTL Member Rate: $40. Registration:  https://mntoollibrary.simpletix.com/  Info: programming@mntoollibrary.org  \n\n\n
URL:https://www.mynortheaster.com/event/sanding-finishing-hardwood-floors-class/2024-03-02/
LOCATION:1620 Central Avenue NE\, Minneapolis\, MN\, 55413\, United States
CATEGORIES:Classes
END:VEVENT
END:VCALENDAR