BEGIN:VCALENDAR
VERSION:2.0
PRODID:-//MyNortheaster.com - ECPv4.6.19//NONSGML v1.0//EN
CALSCALE:GREGORIAN
METHOD:PUBLISH
X-WR-CALNAME:MyNortheaster.com
X-ORIGINAL-URL:https://www.mynortheaster.com
X-WR-CALDESC:Events for MyNortheaster.com
BEGIN:VEVENT
DTSTART;TZID=America/Chicago:20181007T150000
DTEND;TZID=America/Chicago:20181007T150000
DTSTAMP:20260421T160556
CREATED:20180912T203751Z
LAST-MODIFIED:20180912T212728Z
UID:9298-1538924400-1538924400@www.mynortheaster.com
SUMMARY:Rosary Coast to Coast at St. Boniface
DESCRIPTION:Catholics in Northeast Minneapolis will unite for Rosary Coast to Coast USA\, Sunday\, Oct. 7\, at 3 pm\, at St. Boniface Catholic Church\, 633 Second St. NE\, to recite the 20 decades of the Holy Rosary to heal the country and return it to holiness. Info: Loretta at 763-588-9626\, landb1943@aol.com\, or http://rosarycoasttocoast.com. \n
URL:https://www.mynortheaster.com/event/rosary-coast-to-coast-at-st-boniface/
LOCATION:629 2nd St. NE\, Minneapolis\, MN\, 55413\, United States
GEO:44.9951324;-93.2625575
X-APPLE-STRUCTURED-LOCATION;VALUE=URI;X-ADDRESS=629 2nd St. NE Minneapolis MN 55413 United States;X-APPLE-RADIUS=500;X-TITLE=629 2nd St. NE:geo:-93.2625575,44.9951324
CATEGORIES:Church Happenings,Save the Date
END:VEVENT
END:VCALENDAR