BEGIN:VCALENDAR
VERSION:2.0
PRODID:-//MyNortheaster.com - ECPv4.6.19//NONSGML v1.0//EN
CALSCALE:GREGORIAN
METHOD:PUBLISH
X-WR-CALNAME:MyNortheaster.com
X-ORIGINAL-URL:https://www.mynortheaster.com
X-WR-CALDESC:Events for MyNortheaster.com
BEGIN:VEVENT
DTSTART;TZID=America/Chicago:20191015T180000
DTEND;TZID=America/Chicago:20191015T200000
DTSTAMP:20260423T052253
CREATED:20190926T032923Z
LAST-MODIFIED:20190926T190337Z
UID:12101-1571162400-1571169600@www.mynortheaster.com
SUMMARY:PechaKucha Night on the Healing Power of the Arts
DESCRIPTION:For its next PechaKucha Night\, Tuesday\, Oct. 15\, 6-8 pm\, the HATCH committee of the Northeast Minneapolis Arts District Board presents “The Healing Powers of the Arts\,” at Wyndris Apartments\, 929 2nd St. NE\, in the Club Room. \nSix artists from the community will share their experiences on this topic in the style of PechaKucha\, narrating while their images move in rapid succession with 20 slides each shown for 20 seconds. \nFollowing the presentations\, there will be refreshments and a discussion facilitated by Margo Ashmore\, owner of the Northeaster Newspaper. Space is limited. Reservations: 612-277-2902 or dlucas@catholiceldercare.org. \n
URL:https://www.mynortheaster.com/event/pechakucha-night-on-the-healing-power-of-the-arts/
LOCATION:MN\, United States
CATEGORIES:Art,Events,Grab Bag,Performance Arts,Save the Date
END:VEVENT
END:VCALENDAR