BEGIN:VCALENDAR
VERSION:2.0
PRODID:-//MyNortheaster.com - ECPv4.6.19//NONSGML v1.0//EN
CALSCALE:GREGORIAN
METHOD:PUBLISH
X-WR-CALNAME:MyNortheaster.com
X-ORIGINAL-URL:https://www.mynortheaster.com
X-WR-CALDESC:Events for MyNortheaster.com
BEGIN:VEVENT
DTSTART;TZID=America/Chicago:20210916T160000
DTEND;TZID=America/Chicago:20210916T173000
DTSTAMP:20260421T123919
CREATED:20210815T203014Z
LAST-MODIFIED:20210819T142002Z
UID:16853-1631808000-1631813400@www.mynortheaster.com
SUMMARY:Outdoor Classroom/Sculpture Garden Ribbon Cutting
DESCRIPTION:East Side Neighborhood Services\, 1700 2nd St NE\, will hold a ribbon-cutting ceremony at its outdoor classroom/sculpture garden Thursday\, Sept. 16\, 4-5:30 p.m. Bring a blanket and a picnic supper. An ice cream truck and a puppet show are rumored to appear. \n\n
URL:https://www.mynortheaster.com/event/outdoor-classroom-sculpture-garden-ribbon-cutting/
LOCATION:1700 2nd St. NE\, Minneapolis\, MN\, 55413\, United States
GEO:45.0057527;-93.2669993
X-APPLE-STRUCTURED-LOCATION;VALUE=URI;X-ADDRESS=1700 2nd St. NE Minneapolis MN 55413 United States;X-APPLE-RADIUS=500;X-TITLE=1700 2nd St. NE:geo:-93.2669993,45.0057527
CATEGORIES:Art,Bulletin Board,Family Fun
END:VEVENT
END:VCALENDAR