BEGIN:VCALENDAR
VERSION:2.0
PRODID:-//MyNortheaster.com - ECPv4.6.19//NONSGML v1.0//EN
CALSCALE:GREGORIAN
METHOD:PUBLISH
X-WR-CALNAME:MyNortheaster.com
X-ORIGINAL-URL:https://www.mynortheaster.com
X-WR-CALDESC:Events for MyNortheaster.com
BEGIN:VEVENT
DTSTART;TZID=America/Chicago:20210522T130000
DTEND;TZID=America/Chicago:20210522T170000
DTSTAMP:20260419T140701
CREATED:20210513T115051Z
LAST-MODIFIED:20210513T143520Z
UID:16251-1621688400-1621702800@www.mynortheaster.com
SUMMARY:NE Minneapolis Lions Annual Charity Bowling Tournament
DESCRIPTION:Join the Lions for an afternoon of fun\, bowling\, food\, games\, and camaraderie. Open to the public\, must preregister. Cost is $180 per lane (up to six players) includes shoes and a taco bar lunch. Lane sponsors wanted\, $100 each. Want to enjoy just the taco lunch? It’s $15. Check for open spots via email: info@nelions.org. Checks should be payable to NE Lions. Saturday\, May 22\, 1-5 pm at Elsie’s\, 729 Marshall Street NE. \n
URL:https://www.mynortheaster.com/event/ne-minneapolis-lions-annual-charity-bowling-tournament/
LOCATION:729 Marshall St. NE\, Minneapolis\, MN\, 55413\, United States
GEO:44.9950387;-93.2660736
X-APPLE-STRUCTURED-LOCATION;VALUE=URI;X-ADDRESS=729 Marshall St. NE Minneapolis MN 55413 United States;X-APPLE-RADIUS=500;X-TITLE=729 Marshall St. NE:geo:-93.2660736,44.9950387
CATEGORIES:Bulletin Board,Volunteers and Donations
END:VEVENT
END:VCALENDAR