BEGIN:VCALENDAR
VERSION:2.0
PRODID:-//MyNortheaster.com - ECPv4.6.19//NONSGML v1.0//EN
CALSCALE:GREGORIAN
METHOD:PUBLISH
X-WR-CALNAME:MyNortheaster.com
X-ORIGINAL-URL:https://www.mynortheaster.com
X-WR-CALDESC:Events for MyNortheaster.com
BEGIN:VEVENT
DTSTART;VALUE=DATE:20210403
DTEND;VALUE=DATE:20210620
DTSTAMP:20260422T003450
CREATED:20210317T060044Z
LAST-MODIFIED:20210415T140116Z
UID:15533-1617408000-1624147199@www.mynortheaster.com
SUMMARY:Spring Into Spring with Kolman & Pryor Gallery
DESCRIPTION:Upcoming Spring Show: Nature’s Way: At a time when being outside\, taking long walks in local or state parks or even through one’s neighborhood has been a balm for the soul\, nature has never seemed more of a blessing. To celebrate nature’s balm and calm\, and the sense of discovery and refreshment nature gives us\, Kolman & Pryor Gallery announces its spring exhibition\, Nature’s Way. Curated by gallery co-founder Patrick Pryor\, with works by gallery artists Betsy Ruth Byers\, Kate Casanova\, Jil Evans\, Kelly Jean Ohl\, Jodi Reeb\, Julie Snidle\, and Cameron Zebrun\, the exhibition begins Saturday\, April 10 and runs through Saturday\, June 19. An artist reception will be held on Saturday\, April 17\,  7-9 pm\, during Northrup King Nights\, the Northrup King Building’s quarterly open studio evening. Kolman & Pryor Gallery is located in Studio 395\, Northrup King Building at 1500 Jackson St. NE. Info: 612-385-4239\, 612-280-7812\, anita@kolmanpryorgallery.com\, patrick@kolmanpryorgallery.com\, kolmanpryorgallery.com. \nThe Color Series: Part 4\, Orange Continues Through April 3: Jil Evans is fascinated with light and color. In Flash 2\, one of Jil’s three orange-inspired paintings\, she captures the light and energy of summer’s mid-day sun. To complement Jil’s vibrant use of different hues of orange\, they have hung her artwork on one of their two walls they painted orange just for The Color Series: Part 4\, Orange. You can see Jil’s painting and the the entire exhibition through Saturday\, April 3. \n
URL:https://www.mynortheaster.com/event/natures-way-spring-exhibition-at-kolman-pryor-gallery/
LOCATION:Studio 395\, Northrup King Building  1500 Jackson Street NE\, Minneapolis\, MN\, 55413\, United States
GEO:45.0037848;-93.2498152
X-APPLE-STRUCTURED-LOCATION;VALUE=URI;X-ADDRESS=Studio 395 Northrup King Building  1500 Jackson Street NE Minneapolis MN 55413 United States;X-APPLE-RADIUS=500;X-TITLE=Studio 395\, Northrup King Building  1500 Jackson Street NE:geo:-93.2498152,45.0037848
CATEGORIES:Art,No Date
END:VEVENT
END:VCALENDAR