BEGIN:VCALENDAR
VERSION:2.0
PRODID:-//MyNortheaster.com - ECPv4.6.19//NONSGML v1.0//EN
CALSCALE:GREGORIAN
METHOD:PUBLISH
X-WR-CALNAME:MyNortheaster.com
X-ORIGINAL-URL:https://www.mynortheaster.com
X-WR-CALDESC:Events for MyNortheaster.com
BEGIN:VEVENT
DTSTART;TZID=America/Chicago:20211120T140000
DTEND;TZID=America/Chicago:20211120T150000
DTSTAMP:20260419T123922
CREATED:20211101T152754Z
LAST-MODIFIED:20211111T163122Z
UID:17402-1637416800-1637420400@www.mynortheaster.com
SUMMARY:Minnesota Sinfonia concert at Holy Cross
DESCRIPTION:Saturday\, Nov. 20\, 2 pm\, Minnesota Sinfonia\, a professional\, Minneapolis-based orchestra will give a free concert at Holy Cross Catholic Church\, located at 1621 University Ave. The program\, featuring a number of “sneak previews” of the holiday season\, is family friendly and accessible to all. The Minnesota Sinfonia\, www.mnsinfonia.org\, is a professional chamber orchestra whose mission is to serve the musical and educational needs of the citizens of Minnesota\, especially families with children\, inner-city youth\, seniors and those with limited financial means. \n
URL:https://www.mynortheaster.com/event/minnesota-sinfonia-concert-at-holy-cross/
LOCATION:1621 University Ave. NE\, Minneapolis\, MN\, 55413\, United States
GEO:45.0048869;-93.2623459
X-APPLE-STRUCTURED-LOCATION;VALUE=URI;X-ADDRESS=1621 University Ave. NE Minneapolis MN 55413 United States;X-APPLE-RADIUS=500;X-TITLE=1621 University Ave. NE:geo:-93.2623459,45.0048869
CATEGORIES:Performance Arts
END:VEVENT
END:VCALENDAR