BEGIN:VCALENDAR
VERSION:2.0
PRODID:-//MyNortheaster.com - ECPv4.6.19//NONSGML v1.0//EN
CALSCALE:GREGORIAN
METHOD:PUBLISH
X-WR-CALNAME:MyNortheaster.com
X-ORIGINAL-URL:https://www.mynortheaster.com
X-WR-CALDESC:Events for MyNortheaster.com
BEGIN:VEVENT
DTSTART;TZID=America/Chicago:20161116T133000
DTEND;TZID=America/Chicago:20161116T163000
DTSTAMP:20260421T104811
CREATED:20161027T005801Z
LAST-MODIFIED:20161110T053627Z
UID:2996-1479303000-1479313800@www.mynortheaster.com
SUMMARY:Memorial Blood Drive
DESCRIPTION:Memorial Blood Centers will have a blood drive Wednesday\, Nov. 16\, 1:30-4:30 p.m.\, at RSP Architects\, 1220 Marshall St. NE. Donors should be in good health\, free of antibiotics for 24 hours (unless taken daily for a skin condition)\, symptom-free for at least three days following a cold or flu\, and 17 years old or older (16 with written parental consent). For a complete list of locations or to register\, visit mbc.org or contact the sponsoring organization directly. Walk-in donors are welcome\, but appointments are encouraged. \n
URL:https://www.mynortheaster.com/event/memorial-blood-drive-3/
LOCATION:1220 Marshall St. NE\, Minneapolis\, MN\, 55413\, United States
GEO:44.9996998;-93.2700727
X-APPLE-STRUCTURED-LOCATION;VALUE=URI;X-ADDRESS=1220 Marshall St. NE Minneapolis MN 55413 United States;X-APPLE-RADIUS=500;X-TITLE=1220 Marshall St. NE:geo:-93.2700727,44.9996998
CATEGORIES:Volunteers and Donations
END:VEVENT
END:VCALENDAR