BEGIN:VCALENDAR
VERSION:2.0
PRODID:-//MyNortheaster.com - ECPv4.6.19//NONSGML v1.0//EN
CALSCALE:GREGORIAN
METHOD:PUBLISH
X-WR-CALNAME:MyNortheaster.com
X-ORIGINAL-URL:https://www.mynortheaster.com
X-WR-CALDESC:Events for MyNortheaster.com
BEGIN:VEVENT
DTSTART;TZID=America/Chicago:20220502T080000
DTEND;TZID=America/Chicago:20220502T170000
DTSTAMP:20260421T141858
CREATED:20220502T143656Z
LAST-MODIFIED:20220509T181347Z
UID:18818-1651478400-1651510800@www.mynortheaster.com
SUMMARY:Lowry NE Flea Market
DESCRIPTION:Saturday\, May 21\, 10 am-5 pm\, 2430 California St. NE (corner of Lowry & California). Sponsored by Antiquified Antiques. Rain date Sunday\, May  22.\n\n\n\n
URL:https://www.mynortheaster.com/event/lowry-ne-flea-market-3/
LOCATION:2430 California St. NE\, Minneapolis\, MN\, 55418\, United States
GEO:45.012963;-93.269188
X-APPLE-STRUCTURED-LOCATION;VALUE=URI;X-ADDRESS=2430 California St. NE Minneapolis MN 55418 United States;X-APPLE-RADIUS=500;X-TITLE=2430 California St. NE:geo:-93.269188,45.012963
CATEGORIES:Events
END:VEVENT
END:VCALENDAR