BEGIN:VCALENDAR
VERSION:2.0
PRODID:-//MyNortheaster.com - ECPv4.6.19//NONSGML v1.0//EN
CALSCALE:GREGORIAN
METHOD:PUBLISH
X-WR-CALNAME:MyNortheaster.com
X-ORIGINAL-URL:https://www.mynortheaster.com
X-WR-CALDESC:Events for MyNortheaster.com
BEGIN:VEVENT
DTSTART;TZID=America/Chicago:20190911T180000
DTEND;TZID=America/Chicago:20190911T200000
DTSTAMP:20260422T003819
CREATED:20190508T113042Z
LAST-MODIFIED:20190828T185858Z
UID:10744-1568224800-1568232000@www.mynortheaster.com
SUMMARY:Kolman & Pryor waterways and woodlands displays at Hewing Hotel
DESCRIPTION:As part of its curatorial partnership with the Hewing Hotel–which has a lakes and woods aesthetic–Kolman & Pryor Gallery\, in Northeast Minneapolis’ Northrup King Building\, is displaying artists at the hotel\, 300 Washington Ave. N\, whose work\, which is for sale\, is inspired by Minnesota’s waterways and woodlands. \nThrough  Oct. 20\, Minnesota watercolor artist\, Kristine Fretheim\, will be featured. The Hewing will host a free catered reception\, with cash bar\, that’s open to the public\, Wednesday\, Sept. 11\, 6-8 pm\, with an artist-led tour at 7 pm. Info: kolmanpryorgallery.com. \n
URL:https://www.mynortheaster.com/event/koman-pryor-waterways-and-woodlands-show-at-hewing-hotel/2019-09-11/
LOCATION:MN\, United States
CATEGORIES:Art,Northeast Minneapolis Arts District,Save the Date
END:VEVENT
END:VCALENDAR