BEGIN:VCALENDAR
VERSION:2.0
PRODID:-//MyNortheaster.com - ECPv4.6.19//NONSGML v1.0//EN
CALSCALE:GREGORIAN
METHOD:PUBLISH
X-WR-CALNAME:MyNortheaster.com
X-ORIGINAL-URL:https://www.mynortheaster.com
X-WR-CALDESC:Events for MyNortheaster.com
BEGIN:VEVENT
DTSTART;TZID=America/Chicago:20210821T140000
DTEND;TZID=America/Chicago:20210821T150000
DTSTAMP:20260421T124812
CREATED:20210730T133028Z
LAST-MODIFIED:20210730T143316Z
UID:16770-1629554400-1629558000@www.mynortheaster.com
SUMMARY:Keller reading at Eat My Words
DESCRIPTION:Martin Keller will do a reading and Q&A with participants at Eat My Words Bookstore\, 214 13th Ave NE\, Saturday\, Aug. 21\, 2 pm\, with interlocutor TD Mischke\, former writer\, radio broadcaster and current podcaster who hosts the Mischke Roadshow. Keller will read from his book\, “The Space Pen Club: Close Encounters of the 5th Kind\, UFO Disclosure\, Consciousness & Other Mind Zoomers.” The title stems from the writer’s camaraderie with college classmates that comprised The Space Pen Club\, a mostly tie-dyed collection of self-made Merry Pranksters who capriciously turned the Fischer Pen company’s advanced line of Space Pens (“the first pen to write in space!”) into a symbolic icon\, representing self-exploration\, cosmic consciousness and communication\, transcendence (and the occasional quest for beer\, girls\, tuneage and controlled substances). Keller is a publicist with Media Savant Communications\, which frequently represents clients in Northeast. \n
URL:https://www.mynortheaster.com/event/keller-reading-at-eat-my-words/
LOCATION:200 6th St. SE\, Suite 220\, Minneapolis\, MN\, 55414\, United States
GEO:45.0007753;-93.2654192
X-APPLE-STRUCTURED-LOCATION;VALUE=URI;X-ADDRESS=200 6th St. SE Suite 220 Minneapolis MN 55414 United States;X-APPLE-RADIUS=500;X-TITLE=200 6th St. SE\, Suite 220:geo:-93.2654192,45.0007753
CATEGORIES:Bulletin Board
END:VEVENT
END:VCALENDAR