BEGIN:VCALENDAR
VERSION:2.0
PRODID:-//MyNortheaster.com - ECPv4.6.19//NONSGML v1.0//EN
CALSCALE:GREGORIAN
METHOD:PUBLISH
X-WR-CALNAME:MyNortheaster.com
X-ORIGINAL-URL:https://www.mynortheaster.com
X-WR-CALDESC:Events for MyNortheaster.com
BEGIN:VEVENT
DTSTART;TZID=America/Chicago:20190422T140000
DTEND;TZID=America/Chicago:20190422T150000
DTSTAMP:20260421T081154
CREATED:20190325T152448Z
LAST-MODIFIED:20190325T153037Z
UID:10674-1555941600-1555945200@www.mynortheaster.com
SUMMARY:Java with a journalist
DESCRIPTION:Do you have a story you think the Northeaster should cover? Give us the scoop! Once a month\, Cynthia Sowden\, editor of the Northeaster\, and a reporter will meet and greet neighbors at a local coffee shop to find out what’s on your mind and what’s up in the ‘hood. The first session will take place at 2 p.m. April 22 at the Coffee Shop NE\, 2852 Johnson Street NE. \n
URL:https://www.mynortheaster.com/event/java-with-a-journalist/
LOCATION:2852 Johnson St NE Suite A\, Minneapolis\, MN\, 55418\, United States
GEO:45.0201809;-93.2373855
X-APPLE-STRUCTURED-LOCATION;VALUE=URI;X-ADDRESS=2852 Johnson St NE Suite A Minneapolis MN 55418 United States;X-APPLE-RADIUS=500;X-TITLE=2852 Johnson St NE Suite A:geo:-93.2373855,45.0201809
CATEGORIES:Bulletin Board,Meetings
END:VEVENT
END:VCALENDAR