BEGIN:VCALENDAR
VERSION:2.0
PRODID:-//MyNortheaster.com - ECPv4.6.19//NONSGML v1.0//EN
CALSCALE:GREGORIAN
METHOD:PUBLISH
X-WR-CALNAME:MyNortheaster.com
X-ORIGINAL-URL:https://www.mynortheaster.com
X-WR-CALDESC:Events for MyNortheaster.com
BEGIN:VEVENT
DTSTART;TZID=America/Chicago:20210805T160000
DTEND;TZID=America/Chicago:20210805T160000
DTSTAMP:20260423T045404
CREATED:20210717T133927Z
LAST-MODIFIED:20210730T154345Z
UID:16654-1628179200-1628179200@www.mynortheaster.com
SUMMARY:IC Summer Jam
DESCRIPTION:At Immaculate Conception Church & School\, 4030 Jackson St. NE\, August 5-8: Live music “Tribute Fest”\, food\, beverages\, raffle with $10\,000 prize and more. Admission: Thursday-Saturday $15 in advance\, $20 at the door. Sunday admission free. Thursday: “Starlette’s Web”\, women in rock\, pop\, country & groove tribute; Tom Petty & The Heartbreakers tribute band “Free Fallin”\, hosted by Lisa Miller\, KQRS. Friday: “Transit Authority”\, tribute to the music of Chicago; “Xpedition – tribute to Journey\, Foreigner\, Kansas & Styx”\, hosted by Lisa Miller\, KQRS. Saturday:  Beatles tribute band\, “Rubber Soul”;  “The Crown Jewels” tribute to Queen\, hosted by Candace Wheeler\, from the KQRS Morning Show Sunday:  Family Day – Free Admission! Sunday only: Bingo with $20 pots; MSMA car show\, kid’s games\, and more. Silent auction online through August 8. Bring your own chairs. For tickets and info: 763-788-9062 or  www.ICSummerJam.org \n
URL:https://www.mynortheaster.com/event/ic-summer-jam-2/2021-08-05/
LOCATION:4030 Jackson St. NE\, Columbia Heights\, MN\, 55421\, United States
GEO:45.041868;-93.250545
X-APPLE-STRUCTURED-LOCATION;VALUE=URI;X-ADDRESS=4030 Jackson St. NE Columbia Heights MN 55421 United States;X-APPLE-RADIUS=500;X-TITLE=4030 Jackson St. NE:geo:-93.250545,45.041868
CATEGORIES:Church Happenings,Family Fun,Fundraisers
END:VEVENT
END:VCALENDAR