BEGIN:VCALENDAR
VERSION:2.0
PRODID:-//MyNortheaster.com - ECPv4.6.19//NONSGML v1.0//EN
CALSCALE:GREGORIAN
METHOD:PUBLISH
X-WR-CALNAME:MyNortheaster.com
X-ORIGINAL-URL:https://www.mynortheaster.com
X-WR-CALDESC:Events for MyNortheaster.com
BEGIN:VEVENT
DTSTART;TZID=America/Chicago:20190209T180000
DTEND;TZID=America/Chicago:20190209T180000
DTSTAMP:20260423T045252
CREATED:20190115T231113Z
LAST-MODIFIED:20190131T021623Z
UID:10133-1549735200-1549735200@www.mynortheaster.com
SUMMARY:Cabaret Dinner Theatre at Immaculate Conception
DESCRIPTION:Immaculate Conception Catholic Church\, 4030 Jackson St. NE. will have Cabaret Dinner Theatre\, Saturday\, Feb. 9\, at 6 pm. Participants can enjoy a buffet dinner followed by a music and variety show featuring Disney songs. Reserved seat tickets are required. The cost is $35. Proceeds will benefit the IC Liturgy Ministry. Tickets and info: 763-788-9062 or ICCSonline.org. \n
URL:https://www.mynortheaster.com/event/ic-music-ministry-cabaret-dinner-theatre-2/
LOCATION:4030 Jackson St. NE\, Columbia Heights\, MN\, 55421\, United States
GEO:45.041868;-93.250545
X-APPLE-STRUCTURED-LOCATION;VALUE=URI;X-ADDRESS=4030 Jackson St. NE Columbia Heights MN 55421 United States;X-APPLE-RADIUS=500;X-TITLE=4030 Jackson St. NE:geo:-93.250545,45.041868
CATEGORIES:Church Happenings,Fundraisers
END:VEVENT
END:VCALENDAR