BEGIN:VCALENDAR
VERSION:2.0
PRODID:-//MyNortheaster.com - ECPv4.6.19//NONSGML v1.0//EN
CALSCALE:GREGORIAN
METHOD:PUBLISH
X-WR-CALNAME:MyNortheaster.com
X-ORIGINAL-URL:https://www.mynortheaster.com
X-WR-CALDESC:Events for MyNortheaster.com
BEGIN:VEVENT
DTSTART;VALUE=DATE:20201216
DTEND;VALUE=DATE:20210117
DTSTAMP:20260422T043831
CREATED:20201210T040613Z
LAST-MODIFIED:20201210T131706Z
UID:15271-1608076800-1610841599@www.mynortheaster.com
SUMMARY:Hurricane help for Honduras
DESCRIPTION:Jesus Solid Rock of Salvation Ministries is collecting things to help Honduras hurricane victims. If you have kids’ summer clothes etc.\, donate soon before the shipment to Honduras is sent. Items can be brought to the address below\, or picked up. If you wish to donate financially\, make a check or money order to Jesus Solid Rock of Salvation Ministries\, 1205 Pierce Terrace NE\, Columbia Heights\, MN 55421. Donations are tax-deductible. Info: Pastor Lucia Vogel\, 612-695-8215. \n
URL:https://www.mynortheaster.com/event/hurricane-help-for-honduras/
LOCATION:MN\, United States
CATEGORIES:Bulletin Board,Featured,Fundraisers,No Date,Volunteers and Donations
END:VEVENT
END:VCALENDAR