BEGIN:VCALENDAR
VERSION:2.0
PRODID:-//MyNortheaster.com - ECPv4.6.19//NONSGML v1.0//EN
CALSCALE:GREGORIAN
METHOD:PUBLISH
X-WR-CALNAME:MyNortheaster.com
X-ORIGINAL-URL:https://www.mynortheaster.com
X-WR-CALDESC:Events for MyNortheaster.com
BEGIN:VEVENT
DTSTART;TZID=America/Chicago:20240315T190000
DTEND;TZID=America/Chicago:20240315T213000
DTSTAMP:20260421T193141
CREATED:20240214T142049Z
LAST-MODIFIED:20240228T232536Z
UID:23249-1710529200-1710538200@www.mynortheaster.com
SUMMARY:"Hamlet" at Crane Theater
DESCRIPTION:Shakespearean Youth Theatre presents “Hamlet\,” opening Friday\, March 8 at the Crane Theater\, 2302 Kennedy St. NE. The production\, directed by SYT Artistic Director Logan Verdoorn\, runs through Sunday\, March 17. See sytmn.org for tickets and show times. Founded in 2004\, Shakespearean Youth Theatre (SYT) offers youth ages 13-19 professional-level training and performance opportunities\, as well as workshops and camps for students ages 7-19. \n
URL:https://www.mynortheaster.com/event/hamlet-at-crane-theater/2024-03-15/
LOCATION:2303 Kennedy St. NE\, Minneapolis\, MN\, 55413\, United States
GEO:44.9953932;-93.2282482
X-APPLE-STRUCTURED-LOCATION;VALUE=URI;X-ADDRESS=2303 Kennedy St. NE Minneapolis MN 55413 United States;X-APPLE-RADIUS=500;X-TITLE=2303 Kennedy St. NE:geo:-93.2282482,44.9953932
CATEGORIES:Performance Arts
END:VEVENT
END:VCALENDAR