BEGIN:VCALENDAR
VERSION:2.0
PRODID:-//MyNortheaster.com - ECPv4.6.19//NONSGML v1.0//EN
CALSCALE:GREGORIAN
METHOD:PUBLISH
X-WR-CALNAME:MyNortheaster.com
X-ORIGINAL-URL:https://www.mynortheaster.com
X-WR-CALDESC:Events for MyNortheaster.com
BEGIN:VEVENT
DTSTART;TZID=America/Chicago:20191128T100000
DTEND;TZID=America/Chicago:20191128T143000
DTSTAMP:20260423T082219
CREATED:20191025T173715Z
LAST-MODIFIED:20191107T145319Z
UID:12383-1574935200-1574951400@www.mynortheaster.com
SUMMARY:Free Thanksgiving Dinner at St. Matthew
DESCRIPTION:St. Matthew Lutheran Church\, 4101 Washington St. NE\, hosts its 24th annual Community Thanksgiving Dinner on Thursday\, Nov. 28 following their 10 am service. The free turkey dinner with all the trimmings is served from 11 am-2:30 pm. This dinner is open to any families and individuals in need of a welcome place to spend the holiday. Meals can be delivered to the Columbia Heights area by calling the church at 763-788-9427. \n
URL:https://www.mynortheaster.com/event/free-thanksgiving-dinner-at-st-matthew-2/
LOCATION:4101 Washington St. NE\, Columbia Heights\, MN\, 55421\, United States
GEO:45.0431839;-93.255976
X-APPLE-STRUCTURED-LOCATION;VALUE=URI;X-ADDRESS=4101 Washington St. NE Columbia Heights MN 55421 United States;X-APPLE-RADIUS=500;X-TITLE=4101 Washington St. NE:geo:-93.255976,45.0431839
CATEGORIES:Bulletin Board,Church Happenings
END:VEVENT
END:VCALENDAR