BEGIN:VCALENDAR
VERSION:2.0
PRODID:-//MyNortheaster.com - ECPv4.6.19//NONSGML v1.0//EN
CALSCALE:GREGORIAN
METHOD:PUBLISH
X-WR-CALNAME:MyNortheaster.com
X-ORIGINAL-URL:https://www.mynortheaster.com
X-WR-CALDESC:Events for MyNortheaster.com
BEGIN:VEVENT
DTSTART;TZID=America/Chicago:20180601T190000
DTEND;TZID=America/Chicago:20180601T223000
DTSTAMP:20260421T110044
CREATED:20180524T044903Z
LAST-MODIFIED:20180621T134708Z
UID:8257-1527879600-1527892200@www.mynortheaster.com
SUMMARY:Free movie night hosted by Geek Partnership Society
DESCRIPTION:Free movie night open to the public. The Geek Partnership Society will hold a free movie screening on Friday\, June 1\, 7-10:30 pm. Due to licensing restrictions\, they can’t publish the titles\, but they’re about the Science Bros. Origin story of one genius\, billionaire\, playboy\, philanthropist and his friend with breathtaking anger management issues. If you want to know exact titles\, sign up on Eventbrite at tinyurl.com/ycb55b2l and they will be emailed to you. Free\, although donations are appreciated. Some folks also bring snacks\, feel free to join in. Event Horizon\, 1121 Jackson St. NE. Event Horizon is in the Waterbury Building at the intersection of Central and Broadway in Northeast Minneapolis. The parking lot is on the east side of the building. Enter door 1121C. If you are taking the bus\, the closest routes are 10\, 17\, and 30. info@geekpartnership.org.\n
URL:https://www.mynortheaster.com/event/free-movie-night-hosted-by-geek-partnership-society/
LOCATION:1121 NE Jackson St Suite 106\, Minneapolis\, MN\, 55413\, United States
GEO:44.9992815;-93.2491563
X-APPLE-STRUCTURED-LOCATION;VALUE=URI;X-ADDRESS=1121 NE Jackson St Suite 106 Minneapolis MN 55413 United States;X-APPLE-RADIUS=500;X-TITLE=1121 NE Jackson St Suite 106:geo:-93.2491563,44.9992815
CATEGORIES:Bulletin Board,Events
END:VEVENT
END:VCALENDAR