BEGIN:VCALENDAR
VERSION:2.0
PRODID:-//MyNortheaster.com - ECPv4.6.19//NONSGML v1.0//EN
CALSCALE:GREGORIAN
METHOD:PUBLISH
X-WR-CALNAME:MyNortheaster.com
X-ORIGINAL-URL:https://www.mynortheaster.com
X-WR-CALDESC:Events for MyNortheaster.com
BEGIN:VEVENT
DTSTART;TZID=America/Chicago:20191116T103000
DTEND;TZID=America/Chicago:20191116T103000
DTSTAMP:20260423T055944
CREATED:20191024T025935Z
LAST-MODIFIED:20191024T030007Z
UID:12361-1573900200-1573900200@www.mynortheaster.com
SUMMARY:Cyber security presentation at St. John's
DESCRIPTION:Do you know how to protect yourself online? Why should you even care about it? The public is invited to find out at a cyber security presentation\, Saturday\, Nov. 16\, at St. John’s Lutheran Church\, 610 Broadway St. NE. \nThis free presentation will begin at 10:30 am\, upstairs\, and will end with refreshments in the Social Hall downstairs. The building is handicap accessible. Free parking is available in the lot and on the street. Questions: events@stjohnsmplswels.org. \n
URL:https://www.mynortheaster.com/event/cyber-security-presentation-at-st-johns-lutheran-church/
LOCATION:610 Broadway St. NE\, Minneapolis\, MN\, 55413\, United States
GEO:44.9984916;-93.257906
X-APPLE-STRUCTURED-LOCATION;VALUE=URI;X-ADDRESS=610 Broadway St. NE Minneapolis MN 55413 United States;X-APPLE-RADIUS=500;X-TITLE=610 Broadway St. NE:geo:-93.257906,44.9984916
CATEGORIES:Church Happenings,Classes,Save the Date
END:VEVENT
END:VCALENDAR