BEGIN:VCALENDAR
VERSION:2.0
PRODID:-//MyNortheaster.com - ECPv4.6.19//NONSGML v1.0//EN
CALSCALE:GREGORIAN
METHOD:PUBLISH
X-WR-CALNAME:MyNortheaster.com
X-ORIGINAL-URL:https://www.mynortheaster.com
X-WR-CALDESC:Events for MyNortheaster.com
BEGIN:VEVENT
DTSTART;TZID=America/Chicago:20190611T183000
DTEND;TZID=America/Chicago:20190611T193000
DTSTAMP:20260421T124920
CREATED:20190422T214114Z
LAST-MODIFIED:20190523T125646Z
UID:10949-1560277800-1560281400@www.mynortheaster.com
SUMMARY:Community Band at Beltrami Park
DESCRIPTION:The Northeast Community Band will present the final concert of its 21st season June 11 at Beltrami Park\, 1111 Summer Street NE\, 6:30-7:30 pm.  Repertoire will include pieces played during the season. The event is free. \n
URL:https://www.mynortheaster.com/event/community-band-at-beltrami-park/
LOCATION:1111 Summer St. NE\, Minneapolis\, MN\, 55413\, United States
GEO:44.9971214;-93.2433362
X-APPLE-STRUCTURED-LOCATION;VALUE=URI;X-ADDRESS=1111 Summer St. NE Minneapolis MN 55413 United States;X-APPLE-RADIUS=500;X-TITLE=1111 Summer St. NE:geo:-93.2433362,44.9971214
CATEGORIES:Parks and Recreation,Performance Arts
END:VEVENT
END:VCALENDAR