BEGIN:VCALENDAR
VERSION:2.0
PRODID:-//MyNortheaster.com - ECPv4.6.19//NONSGML v1.0//EN
CALSCALE:GREGORIAN
METHOD:PUBLISH
X-WR-CALNAME:MyNortheaster.com
X-ORIGINAL-URL:https://www.mynortheaster.com
X-WR-CALDESC:Events for MyNortheaster.com
BEGIN:VEVENT
DTSTART;TZID=America/Chicago:20211215T100000
DTEND;TZID=America/Chicago:20211215T110000
DTSTAMP:20260423T081549
CREATED:20211103T163118Z
LAST-MODIFIED:20211103T163118Z
UID:17452-1639562400-1639566000@www.mynortheaster.com
SUMMARY:Columbia Heights Adult Library Events
DESCRIPTION:Contact: Columbia Heights Library (763-706-3690)\, or visit www.anokacountylibrary.org. \nFeeding Birds in Winter: Monday\, Dec. 6\, 5:30 pm. Minnesotans\, including the birds\, are hardy enough to get through our tough winters.  However\, there are some things you can do to give the birds a little help.  Talk about birds that might visit your yard during the winter\, as well as seed\, feeders\, and plants that are great “feeders” themselves. Space is limited and registration is required. \nLibrary Book Club: Book club is back in person. Drop in for a favorite book discussion or become a regular member.  Book Club meets in the library at 10 am on the third Wednesday of each month and no registration is required. Nov. 17: The Vanishing Half by Brit Bennett. Dec. 15: Eleanor Oliphant is Completely Fine by Gail Honeyman. \n  \n
URL:https://www.mynortheaster.com/event/columbia-heights-adult-library-events/2021-12-15/
LOCATION:3939 Central Ave. NE\, Columbia Heights\, MN\, 55421\, United States
CATEGORIES:Library Offerings
END:VEVENT
END:VCALENDAR