BEGIN:VCALENDAR
VERSION:2.0
PRODID:-//MyNortheaster.com - ECPv4.6.19//NONSGML v1.0//EN
CALSCALE:GREGORIAN
METHOD:PUBLISH
X-WR-CALNAME:MyNortheaster.com
X-ORIGINAL-URL:https://www.mynortheaster.com
X-WR-CALDESC:Events for MyNortheaster.com
BEGIN:VEVENT
DTSTART;TZID=America/Chicago:20231209T190000
DTEND;TZID=America/Chicago:20231209T210000
DTSTAMP:20260422T143219
CREATED:20231103T144015Z
LAST-MODIFIED:20231122T213106Z
UID:22766-1702148400-1702155600@www.mynortheaster.com
SUMMARY:3rd Annual Advent Lessons & Carols
DESCRIPTION:Holy Cross Catholic Church\, 1621 University Ave. NE\, will present their third annual Advent Lessons and Carols Saturday\, Dec. 9\, 7 pm. This musical celebration combines seasonal carols\, choral music and hymns with Scripture readings for the season. Holy Cross’s observance of this tradition has a delightfully Polish flare\, featuring beloved kolędy\, a couple of readings in Polish and works by Palestrina\, Hildegaard von Bingen\, Handel\, Rheinberger\, Elgar\, Rachmaninoff and a work by Holy Cross’s own Samuel Backman. Free\, with ample parking. A festive social reception with food and drinks will follow in Kolbe Hall.\n\n
URL:https://www.mynortheaster.com/event/3rd-annual-lessons-carols/
LOCATION:1621 University Ave. NE\, Minneapolis\, MN\, 55413\, United States
GEO:45.0048869;-93.2623459
X-APPLE-STRUCTURED-LOCATION;VALUE=URI;X-ADDRESS=1621 University Ave. NE Minneapolis MN 55413 United States;X-APPLE-RADIUS=500;X-TITLE=1621 University Ave. NE:geo:-93.2623459,45.0048869
CATEGORIES:Church Happenings,Save the Date
END:VEVENT
END:VCALENDAR