BEGIN:VCALENDAR
VERSION:2.0
PRODID:-//MyNortheaster.com - ECPv4.6.19//NONSGML v1.0//EN
CALSCALE:GREGORIAN
METHOD:PUBLISH
X-WR-CALNAME:MyNortheaster.com
X-ORIGINAL-URL:https://www.mynortheaster.com
X-WR-CALDESC:Events for MyNortheaster.com
BEGIN:VEVENT
DTSTART;TZID=America/Chicago:20260810T080000
DTEND;TZID=America/Chicago:20260810T170000
DTSTAMP:20260421T021714
CREATED:20260408T170822Z
LAST-MODIFIED:20260408T170822Z
UID:28124-1786348800-1786381200@www.mynortheaster.com
SUMMARY:2026 NEXT Festival
DESCRIPTION:Theatre Latté Da will present three dynamic new works\, Black Girl in Paris by AriDy Nox and Jacinth Greywoode; Hearts Is Broke by Aaron Gabriel; and Alice in Neverland by Phil Kenny and Reston Williams this summer. Each will receive a two-week developmental workshop and two public presentations. Presentations begin July 13 and continue through August 10 at Latté Da’s home venue\, the historic Ritz Theater\, 345 13th Ave NE. Single tickets and three-show NEXT Festival passes are now on sale at latteda.org or 612-339-3003. \n
URL:https://www.mynortheaster.com/event/2026-next-festival/
LOCATION:345 13th Ave. NE\, Minneapolis\, MN\, 55413\, United States
GEO:45.0012026;-93.2622599
X-APPLE-STRUCTURED-LOCATION;VALUE=URI;X-ADDRESS=345 13th Ave. NE Minneapolis MN 55413 United States;X-APPLE-RADIUS=500;X-TITLE=345 13th Ave. NE:geo:-93.2622599,45.0012026
CATEGORIES:Performance Arts,Save the Date
END:VEVENT
END:VCALENDAR