BEGIN:VCALENDAR
VERSION:2.0
PRODID:-//MyNortheaster.com - ECPv4.6.19//NONSGML v1.0//EN
CALSCALE:GREGORIAN
METHOD:PUBLISH
X-WR-CALNAME:MyNortheaster.com
X-ORIGINAL-URL:https://www.mynortheaster.com
X-WR-CALDESC:Events for MyNortheaster.com
BEGIN:VEVENT
DTSTART;TZID=America/Chicago:20231124T080000
DTEND;TZID=America/Chicago:20240131T170000
DTSTAMP:20260423T075424
CREATED:20231124T165945Z
LAST-MODIFIED:20240118T020938Z
UID:22904-1700812800-1706720400@www.mynortheaster.com
SUMMARY:2024 Northeast Calendar available
DESCRIPTION:The ever-popular Northeast Calendar is now available for pickup at a location near you.  It contains images created by 12 Northeast artists. The calendar also includes an update of public art and other changes in the landscape of the neighborhoods\, information on the Northeast Minneapolis Arts District and spotlights on arts allies American Craft Council and Theater Latté Da. \nBusinesses and organizations where free calendars can be picked up: Aki’s Breadhaus\, Bottineau Neighborhood Association\, Bremer Bank – St. Anthony\, Brickmania\, California Building\, Casket Arts Building\, Central Avenue Liquors\, Clay Squared to Infinity\, Davis Law Firm\, DJ Foreign Auto Care\, Eastside Food Co-op\, Eastside Neighborhood Services\, Edina Realty – Melissa Mound\, Francis Burger Joint\, Grumpy’s\, Half Fancy\, Ideal Diner\, Indeed Brewing\, Integrative Massage by Liz\, Logan Park Neighborhood Association\, Mother Earth Gardens NE\, NEMAA (Northrup King Building)\, Northeast Bank\, Northeast Minneapolis Chamber\, Northeast Farmers Market\, Northeaster Newspaper\,  Northrup King Building\, NE Sculpture|Gallery Factory\, Petscape Grooming\, Ready Meats\, Relish\, Recovery Bike Shop\, Riverland Bank – Northeast\,  Romero Landscaping\, Roseline’s Place\, Sarah Jane’s Bakery\, Sentyrz Supermarket\, Sheridan Neighborhood Organization\, SIP Coffee Bar\, Stinson Wine\, Beer & Spirits\, Straightline Dance Fitness\, Team Morgan – Edina Realty\, The Anchor Fish & Chips\, The Coffee Shop Northeast\, Theater Latté Da and Waite Park Community Council. \n  \n
URL:https://www.mynortheaster.com/event/2024-northeast-calendar-available/
LOCATION:MN\, United States
CATEGORIES:Bulletin Board,Featured
END:VEVENT
END:VCALENDAR